BEGIN:VCALENDAR
VERSION:2.0
PRODID:-//AudioTheme 1.8.2
BEGIN:VEVENT
UID:http://stango.ru/?post_type=audiotheme_gig&#038;p=2931
URL:http://stango.ru/shows/turkey/
DTSTART;VALUE=DATE:20180309
SUMMARY:Turkey
DESCRIPTION:X  Tango to Istanbul Festival   Milonga 
LOCATION:TanGo to Istanbul festival\, Istanbul\, \, Turkey
END:VEVENT
END:VCALENDAR