BEGIN:VCALENDAR
VERSION:2.0
PRODID:-//AudioTheme 1.8.2
BEGIN:VEVENT
UID:http://stango.ru/?post_type=audiotheme_gig&#038;p=2650
URL:http://stango.ru/shows/voronezh/
DTSTART;VALUE=DATE:20170409
SUMMARY:Voronezh
LOCATION:Voronezh
END:VEVENT
END:VCALENDAR